{
 "currentVersion": 11.5,
 "serviceDescription": "Concept Site Plans",
 "name": "PL_GEO/CONCEPT_SP",
 "description": "Concept Site Plans",
 "extent": {
  "xmin": 593538.1315304491,
  "ymin": 4832139.191461558,
  "xmax": 601207.9156933972,
  "ymax": 4846368.548116534,
  "spatialReference": {
   "wkid": 2150,
   "latestWkid": 2958
  }
 },
 "initialExtent": {
  "xmin": 593538.1315304491,
  "ymin": 4832139.191461558,
  "xmax": 601207.9156933972,
  "ymax": 4846368.548116534,
  "spatialReference": {
   "wkid": 2150,
   "latestWkid": 2958
  }
 },
 "fullExtent": {
  "xmin": 593538.1315304491,
  "ymin": 4832139.191461558,
  "xmax": 601207.9156933972,
  "ymax": 4846368.548116534,
  "spatialReference": {
   "wkid": 2150,
   "latestWkid": 2958
  }
 },
 "sortableFields": "",
 "bandCount": 3,
 "pixelType": "U8",
 "minValues": [
  0,
  0,
  0
 ],
 "maxValues": [
  255,
  255,
  255
 ],
 "meanValues": [
  229.1794567524476,
  229.28776864716212,
  227.63204108465885
 ],
 "stdvValues": [
  65.47060547518184,
  67.01625851026971,
  68.55057893566232
 ],
 "serviceProperties": "NorthWest<\/MosaicMethod>First<\/MosaicOperator>true<\/SortAscending><\/LockImageID>NAME<\/TileOrderField>0<\/TileOrderBase>600.000000<\/AvgImageSpacingX>300.000000<\/AvgImageSpacingY>0.0<\/ViewPointX>0.0<\/ViewPointY>0.0<\/ViewPointDefShiftX>0.0<\/ViewPointDefShiftY>None<\/CompressionMethod>75<\/CompressionQuality>0.010000<\/CompressionTolerance>Bilinear<\/SamplingMethod><\/ImageServiceProperties><\/ImageServer>",
 "allowedFields": "NAME,MINPS,MAXPS,LOWPS,HIGHPS,TAG,GROUPNAME,PRODUCTNAME,CENTERX,CENTERY,ZORDER,SE_ANNO_CAD_DATA,SHAPE.AREA,SHAPE.LEN",
 "hasMultidimensions": false,
 "pixelSizeX": 0.023309084000000074,
 "pixelSizeY": 0.023309083999999286,
 "meanPixelSize": 0.02330908399999968,
 "datasetFormat": "AMD",
 "uncompressedSize": 602614043424,
 "blockWidth": 2048,
 "blockHeight": 256,
 "compressionType": "None",
 "bandNames": [
  "Band_1",
  "Band_2",
  "Band_3"
 ],
 "allowCopy": true,
 "allowAnalysis": true,
 "itemAccess": false,
 "inspectionCapabilities": "",
 "minPixelSize": 0,
 "maxPixelSize": 0,
 "copyrightText": "",
 "serviceDataType": "esriImageServiceDataTypeRGB",
 "serviceSourceType": "esriImageServiceSourceTypeMosaicDataset",
 "objectIdField": "OBJECTID",
 "fields": [
  {
   "name": "OBJECTID",
   "type": "esriFieldTypeOID",
   "alias": "OBJECTID",
   "domain": null
  },
  {
   "name": "NAME",
   "type": "esriFieldTypeString",
   "alias": "NAME",
   "domain": null,
   "length": 200
  },
  {
   "name": "MINPS",
   "type": "esriFieldTypeDouble",
   "alias": "MINPS",
   "domain": null
  },
  {
   "name": "MAXPS",
   "type": "esriFieldTypeDouble",
   "alias": "MAXPS",
   "domain": null
  },
  {
   "name": "LOWPS",
   "type": "esriFieldTypeDouble",
   "alias": "LOWPS",
   "domain": null
  },
  {
   "name": "HIGHPS",
   "type": "esriFieldTypeDouble",
   "alias": "HIGHPS",
   "domain": null
  },
  {
   "name": "CATEGORY",
   "type": "esriFieldTypeInteger",
   "alias": "CATEGORY",
   "domain": {
    "type": "codedValue",
    "name": "MosaicCatalogItemCategoryDomain",
    "description": "Catalog item categories.",
    "codedValues": [
     {
      "name": "Unknown",
      "code": 0
     },
     {
      "name": "Primary",
      "code": 1
     },
     {
      "name": "Overview",
      "code": 2
     },
     {
      "name": "Unprocessed Overview",
      "code": 3
     },
     {
      "name": "Partial Overview",
      "code": 4
     },
     {
      "name": "Uploaded",
      "code": 253
     },
     {
      "name": "Incomplete",
      "code": 254
     },
     {
      "name": "Custom",
      "code": 255
     }
    ],
    "mergePolicy": "esriMPTDefaultValue",
    "splitPolicy": "esriSPTDefaultValue"
   }
  },
  {
   "name": "TAG",
   "type": "esriFieldTypeString",
   "alias": "TAG",
   "domain": null,
   "length": 100
  },
  {
   "name": "GROUPNAME",
   "type": "esriFieldTypeString",
   "alias": "GROUPNAME",
   "domain": null,
   "length": 100
  },
  {
   "name": "PRODUCTNAME",
   "type": "esriFieldTypeString",
   "alias": "PRODUCTNAME",
   "domain": null,
   "length": 100
  },
  {
   "name": "CENTERX",
   "type": "esriFieldTypeDouble",
   "alias": "CENTERX",
   "domain": null
  },
  {
   "name": "CENTERY",
   "type": "esriFieldTypeDouble",
   "alias": "CENTERY",
   "domain": null
  },
  {
   "name": "ZORDER",
   "type": "esriFieldTypeInteger",
   "alias": "ZORDER",
   "domain": null
  },
  {
   "name": "SHAPE",
   "type": "esriFieldTypeGeometry",
   "alias": "SHAPE",
   "domain": null
  },
  {
   "name": "SHAPE.AREA",
   "type": "esriFieldTypeDouble",
   "alias": "SHAPE.AREA",
   "domain": null
  },
  {
   "name": "SHAPE.LEN",
   "type": "esriFieldTypeDouble",
   "alias": "SHAPE.LEN",
   "domain": null
  }
 ],
 "capabilities": "Image,Metadata,Catalog",
 "defaultMosaicMethod": "Northwest",
 "allowedMosaicMethods": "NorthWest,Center,LockRaster,ByAttribute,Nadir,Viewpoint,Seamline,None",
 "sortField": "",
 "sortValue": null,
 "sortAscending": true,
 "mosaicOperator": "First",
 "maxDownloadSizeLimit": 2048,
 "defaultCompressionQuality": 75,
 "defaultResamplingMethod": "Bilinear",
 "maxImageHeight": 4100,
 "maxImageWidth": 15000,
 "maxRecordCount": 1000,
 "maxDownloadImageCount": 20,
 "maxMosaicImageCount": 20,
 "allowRasterFunction": true,
 "rasterFunctionInfos": [
  {
   "name": "None",
   "description": "",
   "help": ""
  }
 ],
 "rasterTypeInfos": [
  {
   "name": "Raster Dataset",
   "description": "Supports all ArcGIS Raster Datasets",
   "help": ""
  }
 ],
 "mensurationCapabilities": "None",
 "hasHistograms": true,
 "hasColormap": false,
 "hasRasterAttributeTable": false,
 "minScale": 0,
 "maxScale": 0,
 "exportTilesAllowed": false,
 "supportsStatistics": true,
 "supportsAdvancedQueries": true,
 "editFieldsInfo": null,
 "ownershipBasedAccessControlForRasters": null,
 "allowComputeTiePoints": false,
 "useStandardizedQueries": true,
 "advancedQueryCapabilities": {
  "useStandardizedQueries": true,
  "supportsStatistics": true,
  "supportsOrderBy": true,
  "supportsDistinct": true,
  "supportsPagination": true
 },
 "spatialReference": {
  "wkid": 2150,
  "latestWkid": 2958
 }
}
