View In:
ArcGIS JavaScript
ArcGIS Online Map Viewer
ArcGIS Earth
Service Description: Imagery/BRAM2022F_SID_MOSAIC
Name: Imagery/BRAM2022F_SID_MOSAIC
Description:
Single Fused Map Cache: false
Extent:
XMin: -8893742.1761
YMin: 5403473.1124
XMax: -8863851.3761
YMax: 5442468.9124
Spatial Reference: 102100
(3857)
LatestVCSWkid(0)
Initial Extent:
XMin: -8893742.1761
YMin: 5403473.1124
XMax: -8863851.3761
YMax: 5442468.9124
Spatial Reference: 102100
(3857)
LatestVCSWkid(0)
Full Extent:
XMin: -8893742.1761
YMin: 5403473.1124
XMax: -8863851.3761
YMax: 5442468.9124
Spatial Reference: 102100
(3857)
LatestVCSWkid(0)
Pixel Size X: 0.10000000000000249
Pixel Size Y: 0.09999999999999952
Band Count: 3
Pixel Type: U8
RasterFunction Infos: {"rasterFunctionInfos": [{
"name": "None",
"description": "A No-Op Function.",
"help": ""
}]}
Mensuration Capabilities: None
Inspection Capabilities:
Has Histograms: true
Has Colormap: false
Has Multi Dimensions : false
Rendering Rule:
Min Scale: 0
Max Scale: 0
Copyright Text:
Service Data Type: esriImageServiceDataTypeRGB
Min Values: 0, 14, 22
Max Values: 255, 255, 255
Mean Values: 120.31184447911652, 126.11971968151438, 123.04782412808531
Standard Deviation Values: 55.05712955387026, 51.0562361023232, 49.88157400154936
Object ID Field: OBJECTID
Fields:
-
OBJECTID
(
type: esriFieldTypeOID, alias: OBJECTID
)
-
NAME
(
type: esriFieldTypeString, alias: NAME, length: 200
)
-
MINPS
(
type: esriFieldTypeDouble, alias: MINPS
)
-
MAXPS
(
type: esriFieldTypeDouble, alias: MAXPS
)
-
LOWPS
(
type: esriFieldTypeDouble, alias: LOWPS
)
-
HIGHPS
(
type: esriFieldTypeDouble, alias: HIGHPS
)
-
CATEGORY
(
type: esriFieldTypeInteger, alias: CATEGORY
, Coded Values:
[0: Unknown]
, [1: Primary]
, [2: Overview]
, ...5 more...
)
-
TAG
(
type: esriFieldTypeString, alias: TAG, length: 100
)
-
GROUPNAME
(
type: esriFieldTypeString, alias: GROUPNAME, length: 100
)
-
PRODUCTNAME
(
type: esriFieldTypeString, alias: PRODUCTNAME, length: 100
)
-
CENTERX
(
type: esriFieldTypeDouble, alias: CENTERX
)
-
CENTERY
(
type: esriFieldTypeDouble, alias: CENTERY
)
-
ZORDER
(
type: esriFieldTypeInteger, alias: ZORDER
)
-
SHAPE
(
type: esriFieldTypeGeometry, alias: SHAPE
)
-
SHAPE.AREA
(
type: esriFieldTypeDouble, alias: SHAPE.AREA
)
-
SHAPE.LEN
(
type: esriFieldTypeDouble, alias: SHAPE.LEN
)
Default Mosaic Method: Northwest
Allowed Mosaic Methods: NorthWest,Center,LockRaster,ByAttribute,Nadir,Viewpoint,Seamline,None
SortField:
SortValue: null
Mosaic Operator: First
Default Compression Quality: 75
Default Resampling Method: Bilinear
Max Record Count: 1000
Max Image Height: 4100
Max Image Width: 15000
Max Download Image Count: 20
Max Mosaic Image Count: 20
Allow Raster Function: true
Allow Copy: false
Allow Analysis: false
Allow Compute TiePoints: false
Supports Statistics: true
Supports Advanced Queries: true
Use StandardizedQueries: true
Raster Type Infos:
Name: Raster Dataset
Description: Supports all ArcGIS Raster Datasets
Help:
Has Raster Attribute Table: false
Edit Fields Info: null
Ownership Based AccessControl For Rasters: null
Child Resources:
Info
Histograms
Statistics
Key Properties
Legend
Raster Function Infos
Supported Operations:
Export Image
Query
Identify
Download Rasters
Get Image Url
Compute Histograms
Compute Statistics Histograms
Get Samples
Compute Class Statistics
Query GPS Info
Find Images
Image to Map
Map to Image
Measure from Image
Image to Map Multiray
Query Boundary
Compute Pixel Location
Compute Angles
Validate
Project